BEGIN:VCALENDAR
VERSION:2.0
PRODID:-//hacksw/handcal//NONSGML v1.0//EN
CALSCALE:GREGORIAN
BEGIN:VEVENT
DTEND:20181123T220000Z
UID:20181123T200000Z-26518@www.barber.lu
DTSTAMP:20200812T015719Z
DESCRIPTION:Event info: http://www.barber.lu/rsvpmaker/gin-tasting-at-the-b
	arbershop-2018-11-23/
URL;VALUE=URI:http://www.barber.lu/rsvpmaker/gin-tasting-at-the-barbershop-2018-11-23/
SUMMARY:GIN TASTING AT THE BARBERSHOP
DTSTART:20181123T200000Z
ORGANIZER;CN=Barbershop / classic cuts and close shaves institution men&#039;s only:MAILTO:marketing@ferber.lu
END:VEVENT
END:VCALENDAR
